BEGIN:VCALENDAR
VERSION:2.0
PRODID:-//Chorsystem Singste//Veranstaltungskalender 1.0//DE
BEGIN:VEVENT
UID:klangial21
DTSTAMP:19700101T000000Z
DTSTART:20260509T150000Z
DTEND:20260509T173000Z
SUMMARY:Operette "Der Zigeunerbaron"
DESCRIPTION:__beschreibungZeile__
LOCATION:Clemens August Forum, Clemens-August-Straße 33a, 50321 Brühl
ORGANIZER;CN=Klangial:mailto:chorsystem@dawesys.de
END:VEVENT
END:VCALENDAR