BEGIN:VCALENDAR
VERSION:2.0
PRODID:-//Chorsystem Singste//Veranstaltungskalender 1.0//DE
BEGIN:VEVENT
UID:mghstjohannes122
DTSTAMP:19700101T000000Z
DTSTART:20261219T150000Z
DTEND:20261219T160000Z
SUMMARY:Waldweihnacht
DESCRIPTION:__beschreibungZeile__
LOCATION:Spitalwald
ORGANIZER;CN=Chöre am Münster St. Johannes Bad Mergentheim:mailto:chorsystem@dawesys.de
END:VEVENT
END:VCALENDAR