BEGIN:VCALENDAR
VERSION:2.0
PRODID:-//Chorsystem Singste//Veranstaltungskalender 1.0//DE
BEGIN:VEVENT
UID:mghstjohannes125
DTSTAMP:19700101T000000Z
DTSTART:20261213T170000Z
DTEND:20261213T180000Z
SUMMARY:Adventskonzert
DESCRIPTION:__beschreibungZeile__
LOCATION:Münster St. Johannes
ORGANIZER;CN=Chöre am Münster St. Johannes Bad Mergentheim:mailto:chorsystem@dawesys.de
END:VEVENT
END:VCALENDAR