BEGIN:VCALENDAR
VERSION:2.0
PRODID:-//Chorsystem Singste//Veranstaltungskalender 1.0//DE
BEGIN:VEVENT
UID:mghstjohannes127
DTSTAMP:19700101T000000Z
DTSTART:20261011T083000Z
DTEND:20261011T094500Z
SUMMARY:Rosenkranzfest
DESCRIPTION:__beschreibungZeile__
LOCATION:Marienkirche
ORGANIZER;CN=Chöre am Münster St. Johannes Bad Mergentheim:mailto:chorsystem@dawesys.de
END:VEVENT
END:VCALENDAR