BEGIN:VCALENDAR
VERSION:2.0
PRODID:-//Chorsystem Singste//Veranstaltungskalender 1.0//DE
BEGIN:VEVENT
UID:modernvoices291
DTSTAMP:19700101T000000Z
DTSTART:20260613T105000Z
DTEND:20260613T111500Z
SUMMARY:Fest der Chöre/Klangvokal
DESCRIPTION:__beschreibungZeile__
LOCATION:Brückstraße 47, 44135 Dortmund
ORGANIZER;CN=Modern Voices Iserlohn:mailto:chorsystem@dawesys.de
END:VEVENT
END:VCALENDAR