BEGIN:VCALENDAR
VERSION:2.0
PRODID:-//Chorsystem Singste//Veranstaltungskalender 1.0//DE
BEGIN:VEVENT
UID:modernvoices329
DTSTAMP:19700101T000000Z
DTSTART:20260901T163000Z
DTEND:20260901T183000Z
SUMMARY:Auftritt Heidebad Heideplatz 4 58640 Iserlohn
DESCRIPTION:__beschreibungZeile__
LOCATION:Carl-Sonnenschein-Schule Gertrudisstraße 10b 58640 Iserlohn
ORGANIZER;CN=Modern Voices Iserlohn:mailto:chorsystem@dawesys.de
END:VEVENT
END:VCALENDAR