BEGIN:VCALENDAR
VERSION:2.0
PRODID:-//Chorsystem Singste//Veranstaltungskalender 1.0//DE
BEGIN:VEVENT
UID:modernvoices367
DTSTAMP:19700101T000000Z
DTSTART:20261129T160000Z
DTEND:20261129T173000Z
SUMMARY:Adventskonzert Bauernkirche
DESCRIPTION:__beschreibungZeile__
LOCATION:Bauernkirche  Fritz - Kühn- Platz,58636 Iserlohn
ORGANIZER;CN=Modern Voices Iserlohn:mailto:chorsystem@dawesys.de
END:VEVENT
END:VCALENDAR