BEGIN:VCALENDAR
VERSION:2.0
PRODID:-//Chorsystem Singste//Veranstaltungskalender 1.0//DE
BEGIN:VEVENT
UID:tgh34
DTSTAMP:19700101T000000Z
DTSTART:20260502T154500Z
DTEND:20260502T163000Z
SUMMARY:European Gospelfestival Stuttgart - Stiftskirche
DESCRIPTION:__beschreibungZeile__
LOCATION:Stiftskirche, Stiftstraße 12, 70173 Stuttgart
ORGANIZER;CN=The Gospel House:mailto:chorsystem@dawesys.de
END:VEVENT
END:VCALENDAR