BEGIN:VCALENDAR
VERSION:2.0
PRODID:-//Chorsystem Singste//Veranstaltungskalender 1.0//DE
BEGIN:VEVENT
UID:tgh52
DTSTAMP:19700101T000000Z
DTSTART:20260502T170000Z
DTEND:20260502T210000Z
SUMMARY:European Gospelfestival Stuttgart - Leonhardskirche
DESCRIPTION:__beschreibungZeile__
LOCATION:Leonhardskirche, Leonhardsplatz 26, 70182 Stuttgart
ORGANIZER;CN=The Gospel House:mailto:chorsystem@dawesys.de
END:VEVENT
END:VCALENDAR