BEGIN:VCALENDAR
VERSION:2.0
PRODID:-//Chorsystem Singste//Veranstaltungskalender 1.0//DE
BEGIN:VEVENT
UID:tgh60
DTSTAMP:19700101T000000Z
DTSTART:20261031T191500Z
DTEND:20261031T213000Z
SUMMARY:Churchnight Esslingen
DESCRIPTION:__beschreibungZeile__
LOCATION:Ev.Kirche St.Bernhardt zum Hohenkreuz, Seracher Str. 2-4, 73732 Esslingen
ORGANIZER;CN=The Gospel House:mailto:chorsystem@dawesys.de
END:VEVENT
END:VCALENDAR